{"text_format":"1","workbook":"xlsx","n_sheets":1,"sheets":["Invoersheet"],"not_rendered":{"charts":0,"images":3,"macros":1,"external_links":0,"defined_names":2,"comments":0,"pivot_tables":0},"unopened":[],"bounds":{"document_bytes":16777216,"sheet_cells":100000,"rows_first":2000,"rows_last":500,"rows_between":2000,"halvings":0,"cell_chars":16384,"cell_head_chars":4096},"cells_cut":0,"cells_raw":0,"read":"whole","date_system":"1900"}

{"sheet":"Invoersheet","index":0,"n_rows":105,"n_cols":176,"rows_kept":105,"cut":false,"hidden":false,"merged":[[4,0,7,16]]}
[null," ",null,null,null,null,null,null,null,null,null,null,null,null,null,null,{"$f":"IF(J1=\"\",\"\",IF(OR(#REF!<>\"EUR\",AND(#REF!<>\"\",H1=\"\"),H1=\"\")=TRUE,\"n.v.t.\",((((E1-S1)/U1)-T1)/(E1-S1))*100))","v":""},null,{"$f":"IF(G1=\"st\",IF(I1=\"P\",(ROUNDUP((E1*F1*H1/100),2)/F1),IF(I1=\"V\",((E1*F1)- H1)/F1,H1/F1)),IF(AND(G1=\"kg\",I1=\"P\")=TRUE,ROUNDUP((E1*H1/100),2),H1))","v":0},{"$f":"IF(AND(G1=\"st\",K1=\"st\")=TRUE,(N1+#REF!)/J1,IF(G1=\"kg\",N1+#REF!))","v":false},{"$f":"1+(V1/100)","v":{"$error":"#REF!"}},{"$f":"IF(#REF!=\"\",\"\",HLOOKUP(#REF!,$AP$1:$AS$2,2,FALSE))","v":{"$error":"#REF!"}},"ja","nee","kg","st","B","P","V","DC","RZ",0,1,2,3,4,5,6,7,8,9,"H","L",0,"G","A","AB","AD","AG","AL","ABD","ABG","ABL","ADG","ADL","AGL","ABDG","X","XB","XD","XG","XL","XT","XBD","XBG","XBDG","XDG","XDL","XGL","P","PR","PB","PD","PG","PL","PT","PRB","PRD","PRL","PBD","PBG","PBL","PBT","PBDG","PDG","PDL","PDT","PGL","PGT","PLT","W","Los",1,2,3,4,5,6,7,8,9,10,11,12,13,14,15,16,17,18,19,20,21,22,23,24,25,26,27,28,29,30,31,32,33,34,35,36,37,38,39,40,41,42,43,44,45,46,47,48,49,50,"EUR","ANG","ARS","AUD","BRL","CHF","CLP","CZK","ECS","EEK","GBP","GTQ","HKD","HNL","HUF","IDR","IEP","JPY","LTL","LVL","MYR","NOK","NZD","PEN","PHP","PLN","PYG","SEK","SGD","SKK","SVC","THB","USD","ZAR"]
["CAM:",null,null,null,null,null,null,null,null,null,null,null,null,null,null,null,null,null,null,null,null,null,null,null,null,null,null,null,null,null,null,null,null,null,null,null,null,null,null,null,null,21,6,0,0]
["Week:"]
["*Alle onderstaande kolommen dienen door de leverancier te worden ingevuld."]
["*Bij een Free Sampling, Extra Deal of een andere couponactie  is er altijd sprake van vergoeding op basis van scanning achteraf. Dat betekent dat leverancier een factuur krijgt na afloop van de actie, voor iedere met korting verkochte CE uit het betreffende actiepakket. Hiervoor zetten we een achterafvergoeding per CE in het systeem. Wat belangrijk is, is dat de leverancier uitlevert tegen de reguliere inkoopprijs in deze periode zodat we prijsverschillen voorkomen. "]
[]
[]
[]
["Algemeen",null,null,null,"Combineer & Profiteer"]
["nasa","artikel","begin","eind","basis","drem-","kg","Belon-","B","BE","kg","norm","SL","actie-ink.-","Leverbaar","Vergoeding achteraf","marge",null,"Beloning","Inkoop","BTW","BTW Percentage"]
["nr.","omschrijving","datum","datum","verkoop","pel","st","ing","P",null,"st","gew.","bij-","prijs per","vanaf","per CE",null,null,"per ","per","correctie"]
[null,null,"actie","actie","prijs",null,null,null,"V",null,null,"in KG","drage","BE/KG",null,null,null,null,"CE/KG","CE/KG"]
[]
[]
[null,null,null,null,null,null,null,null,null,null,null,null,null,null,null,null,{"$f":"IF(J15=\"\",\"\",IF(OR(#REF!<>\"EUR\",AND(#REF!<>\"\",H15=\"\"),H15=\"\")=TRUE,\"n.v.t.\",((((E15-S15)/U15)-T15)/(E15-S15))*100))","v":""},null,{"$f":"IF(G15=\"st\",IF(I15=\"P\",(ROUNDUP((E15*F15*H15/100),2)/F15),IF(I15=\"V\",((E15*F15)- H15)/F15,H15/F15)),IF(AND(G15=\"kg\",I15=\"P\")=TRUE,ROUNDUP((E15*H15/100),2),H15))","v":0},{"$f":"IF(AND(G15=\"st\",K15=\"st\")=TRUE,(N15+#REF!)/J15,IF(G15=\"kg\",N15+#REF!))","v":false},{"$f":"1+(V15/100)","v":{"$error":"#REF!"}},{"$f":"IF(#REF!=\"\",\"\",HLOOKUP(#REF!,$AP$1:$AS$2,2,FALSE))","v":{"$error":"#REF!"}}]
[null,null,null,null,null,null,null,null,null,null,null,null,null,null,null,null,{"$f":"IF(J16=\"\",\"\",IF(OR(#REF!<>\"EUR\",AND(#REF!<>\"\",H16=\"\"),H16=\"\")=TRUE,\"n.v.t.\",((((E16-S16)/U16)-T16)/(E16-S16))*100))","v":""},null,0,{"$f":"IF(AND(G16=\"st\",K16=\"st\")=TRUE,(N16+#REF!)/J16,IF(G16=\"kg\",N16+#REF!))","v":false},{"$error":"#REF!"},{"$f":"IF(#REF!=\"\",\"\",HLOOKUP(#REF!,$AP$1:$AS$2,2,FALSE))","v":{"$error":"#REF!"}}]
[null,null,null,null,null,null,null,null,null,null,null,null,null,null,null,null,{"$f":"IF(J17=\"\",\"\",IF(OR(#REF!<>\"EUR\",AND(#REF!<>\"\",H17=\"\"),H17=\"\")=TRUE,\"n.v.t.\",((((E17-S17)/U17)-T17)/(E17-S17))*100))","v":""},null,0,{"$f":"IF(AND(G17=\"st\",K17=\"st\")=TRUE,(N17+#REF!)/J17,IF(G17=\"kg\",N17+#REF!))","v":false},{"$error":"#REF!"},{"$f":"IF(#REF!=\"\",\"\",HLOOKUP(#REF!,$AP$1:$AS$2,2,FALSE))","v":{"$error":"#REF!"}}]
[null,null,null,null,null,null,null,null,null,null,null,null,null,null,null,null,{"$f":"IF(J18=\"\",\"\",IF(OR(#REF!<>\"EUR\",AND(#REF!<>\"\",H18=\"\"),H18=\"\")=TRUE,\"n.v.t.\",((((E18-S18)/U18)-T18)/(E18-S18))*100))","v":""},null,0,{"$f":"IF(AND(G18=\"st\",K18=\"st\")=TRUE,(N18+#REF!)/J18,IF(G18=\"kg\",N18+#REF!))","v":false},{"$error":"#REF!"},{"$f":"IF(#REF!=\"\",\"\",HLOOKUP(#REF!,$AP$1:$AS$2,2,FALSE))","v":{"$error":"#REF!"}}]
[null,null,null,null,null,null,null,null,null,null,null,null,null,null,null,null,{"$f":"IF(J19=\"\",\"\",IF(OR(#REF!<>\"EUR\",AND(#REF!<>\"\",H19=\"\"),H19=\"\")=TRUE,\"n.v.t.\",((((E19-S19)/U19)-T19)/(E19-S19))*100))","v":""},null,0,{"$f":"IF(AND(G19=\"st\",K19=\"st\")=TRUE,(N19+#REF!)/J19,IF(G19=\"kg\",N19+#REF!))","v":false},{"$f":"1+(V19/100)","v":{"$error":"#REF!"}},{"$f":"IF(#REF!=\"\",\"\",HLOOKUP(#REF!,$AP$1:$AS$2,2,FALSE))","v":{"$error":"#REF!"}}]
[null,null,null,null,null,null,null,null,null,null,null,null,null,null,null,null,{"$f":"IF(J20=\"\",\"\",IF(OR(#REF!<>\"EUR\",AND(#REF!<>\"\",H20=\"\"),H20=\"\")=TRUE,\"n.v.t.\",((((E20-S20)/U20)-T20)/(E20-S20))*100))","v":""},null,0,{"$f":"IF(AND(G20=\"st\",K20=\"st\")=TRUE,(N20+#REF!)/J20,IF(G20=\"kg\",N20+#REF!))","v":false},{"$error":"#REF!"},{"$f":"IF(#REF!=\"\",\"\",HLOOKUP(#REF!,$AP$1:$AS$2,2,FALSE))","v":{"$error":"#REF!"}}]
[null,null,null,null,null,null,null,null,null,null,null,null,null,null,null,null,{"$f":"IF(J21=\"\",\"\",IF(OR(#REF!<>\"EUR\",AND(#REF!<>\"\",H21=\"\"),H21=\"\")=TRUE,\"n.v.t.\",((((E21-S21)/U21)-T21)/(E21-S21))*100))","v":""},null,0,{"$f":"IF(AND(G21=\"st\",K21=\"st\")=TRUE,(N21+#REF!)/J21,IF(G21=\"kg\",N21+#REF!))","v":false},{"$f":"1+(V21/100)","v":{"$error":"#REF!"}},{"$f":"IF(#REF!=\"\",\"\",HLOOKUP(#REF!,$AP$1:$AS$2,2,FALSE))","v":{"$error":"#REF!"}}]
[null,null,null,null,null,null,null,null,null,null,null,null,null,null,null,null,{"$f":"IF(J22=\"\",\"\",IF(OR(#REF!<>\"EUR\",AND(#REF!<>\"\",H22=\"\"),H22=\"\")=TRUE,\"n.v.t.\",((((E22-S22)/U22)-T22)/(E22-S22))*100))","v":""},null,0,{"$f":"IF(AND(G22=\"st\",K22=\"st\")=TRUE,(N22+#REF!)/J22,IF(G22=\"kg\",N22+#REF!))","v":false},{"$error":"#REF!"},{"$f":"IF(#REF!=\"\",\"\",HLOOKUP(#REF!,$AP$1:$AS$2,2,FALSE))","v":{"$error":"#REF!"}}]
[null,null,null,null,null,null,null,null,null,null,null,null,null,null,null,null,{"$f":"IF(J23=\"\",\"\",IF(OR(#REF!<>\"EUR\",AND(#REF!<>\"\",H23=\"\"),H23=\"\")=TRUE,\"n.v.t.\",((((E23-S23)/U23)-T23)/(E23-S23))*100))","v":""},null,0,{"$f":"IF(AND(G23=\"st\",K23=\"st\")=TRUE,(N23+#REF!)/J23,IF(G23=\"kg\",N23+#REF!))","v":false},{"$f":"1+(V23/100)","v":{"$error":"#REF!"}},{"$f":"IF(#REF!=\"\",\"\",HLOOKUP(#REF!,$AP$1:$AS$2,2,FALSE))","v":{"$error":"#REF!"}}]
[null,null,null,null,null,null,null,null,null,null,null,null,null,null,null,null,{"$f":"IF(J24=\"\",\"\",IF(OR(#REF!<>\"EUR\",AND(#REF!<>\"\",H24=\"\"),H24=\"\")=TRUE,\"n.v.t.\",((((E24-S24)/U24)-T24)/(E24-S24))*100))","v":""},null,0,{"$f":"IF(AND(G24=\"st\",K24=\"st\")=TRUE,(N24+#REF!)/J24,IF(G24=\"kg\",N24+#REF!))","v":false},{"$error":"#REF!"},{"$f":"IF(#REF!=\"\",\"\",HLOOKUP(#REF!,$AP$1:$AS$2,2,FALSE))","v":{"$error":"#REF!"}}]
[null,null,null,null,null,null,null,null,null,null,null,null,null,null,null,null,{"$f":"IF(J25=\"\",\"\",IF(OR(#REF!<>\"EUR\",AND(#REF!<>\"\",H25=\"\"),H25=\"\")=TRUE,\"n.v.t.\",((((E25-S25)/U25)-T25)/(E25-S25))*100))","v":""},null,0,{"$f":"IF(AND(G25=\"st\",K25=\"st\")=TRUE,(N25+#REF!)/J25,IF(G25=\"kg\",N25+#REF!))","v":false},{"$error":"#REF!"},{"$f":"IF(#REF!=\"\",\"\",HLOOKUP(#REF!,$AP$1:$AS$2,2,FALSE))","v":{"$error":"#REF!"}}]
[null,null,null,null,null,null,null,null,null,null,null,null,null,null,null,null,{"$f":"IF(J26=\"\",\"\",IF(OR(#REF!<>\"EUR\",AND(#REF!<>\"\",H26=\"\"),H26=\"\")=TRUE,\"n.v.t.\",((((E26-S26)/U26)-T26)/(E26-S26))*100))","v":""},null,0,{"$f":"IF(AND(G26=\"st\",K26=\"st\")=TRUE,(N26+#REF!)/J26,IF(G26=\"kg\",N26+#REF!))","v":false},{"$error":"#REF!"},{"$f":"IF(#REF!=\"\",\"\",HLOOKUP(#REF!,$AP$1:$AS$2,2,FALSE))","v":{"$error":"#REF!"}}]
[null,null,null,null,null,null,null,null,null,null,null,null,null,null,null,null,{"$f":"IF(J27=\"\",\"\",IF(OR(#REF!<>\"EUR\",AND(#REF!<>\"\",H27=\"\"),H27=\"\")=TRUE,\"n.v.t.\",((((E27-S27)/U27)-T27)/(E27-S27))*100))","v":""},null,0,{"$f":"IF(AND(G27=\"st\",K27=\"st\")=TRUE,(N27+#REF!)/J27,IF(G27=\"kg\",N27+#REF!))","v":false},{"$error":"#REF!"},{"$f":"IF(#REF!=\"\",\"\",HLOOKUP(#REF!,$AP$1:$AS$2,2,FALSE))","v":{"$error":"#REF!"}}]
[null,null,null,null,null,null,null,null,null,null,null,null,null,null,null,null,{"$f":"IF(J28=\"\",\"\",IF(OR(#REF!<>\"EUR\",AND(#REF!<>\"\",H28=\"\"),H28=\"\")=TRUE,\"n.v.t.\",((((E28-S28)/U28)-T28)/(E28-S28))*100))","v":""},null,0,{"$f":"IF(AND(G28=\"st\",K28=\"st\")=TRUE,(N28+#REF!)/J28,IF(G28=\"kg\",N28+#REF!))","v":false},{"$error":"#REF!"},{"$f":"IF(#REF!=\"\",\"\",HLOOKUP(#REF!,$AP$1:$AS$2,2,FALSE))","v":{"$error":"#REF!"}}]
[null,null,null,null,null,null,null,null,null,null,null,null,null,null,null,null,{"$f":"IF(J29=\"\",\"\",IF(OR(#REF!<>\"EUR\",AND(#REF!<>\"\",H29=\"\"),H29=\"\")=TRUE,\"n.v.t.\",((((E29-S29)/U29)-T29)/(E29-S29))*100))","v":""},null,0,{"$f":"IF(AND(G29=\"st\",K29=\"st\")=TRUE,(N29+#REF!)/J29,IF(G29=\"kg\",N29+#REF!))","v":false},{"$error":"#REF!"},{"$f":"IF(#REF!=\"\",\"\",HLOOKUP(#REF!,$AP$1:$AS$2,2,FALSE))","v":{"$error":"#REF!"}}]
[null,null,null,null,null,null,null,null,null,null,null,null,null,null,null,null,{"$f":"IF(J30=\"\",\"\",IF(OR(#REF!<>\"EUR\",AND(#REF!<>\"\",H30=\"\"),H30=\"\")=TRUE,\"n.v.t.\",((((E30-S30)/U30)-T30)/(E30-S30))*100))","v":""},null,0,{"$f":"IF(AND(G30=\"st\",K30=\"st\")=TRUE,(N30+#REF!)/J30,IF(G30=\"kg\",N30+#REF!))","v":false},{"$error":"#REF!"},{"$f":"IF(#REF!=\"\",\"\",HLOOKUP(#REF!,$AP$1:$AS$2,2,FALSE))","v":{"$error":"#REF!"}}]
[null,null,null,null,null,null,null,null,null,null,null,null,null,null,null,null,{"$f":"IF(J31=\"\",\"\",IF(OR(#REF!<>\"EUR\",AND(#REF!<>\"\",H31=\"\"),H31=\"\")=TRUE,\"n.v.t.\",((((E31-S31)/U31)-T31)/(E31-S31))*100))","v":""},null,0,{"$f":"IF(AND(G31=\"st\",K31=\"st\")=TRUE,(N31+#REF!)/J31,IF(G31=\"kg\",N31+#REF!))","v":false},{"$error":"#REF!"},{"$f":"IF(#REF!=\"\",\"\",HLOOKUP(#REF!,$AP$1:$AS$2,2,FALSE))","v":{"$error":"#REF!"}}]
[null,null,null,null,null,null,null,null,null,null,null,null,null,null,null,null,{"$f":"IF(J32=\"\",\"\",IF(OR(#REF!<>\"EUR\",AND(#REF!<>\"\",H32=\"\"),H32=\"\")=TRUE,\"n.v.t.\",((((E32-S32)/U32)-T32)/(E32-S32))*100))","v":""},null,0,{"$f":"IF(AND(G32=\"st\",K32=\"st\")=TRUE,(N32+#REF!)/J32,IF(G32=\"kg\",N32+#REF!))","v":false},{"$error":"#REF!"},{"$f":"IF(#REF!=\"\",\"\",HLOOKUP(#REF!,$AP$1:$AS$2,2,FALSE))","v":{"$error":"#REF!"}}]
[null,null,null,null,null,null,null,null,null,null,null,null,null,null,null,null,{"$f":"IF(J33=\"\",\"\",IF(OR(#REF!<>\"EUR\",AND(#REF!<>\"\",H33=\"\"),H33=\"\")=TRUE,\"n.v.t.\",((((E33-S33)/U33)-T33)/(E33-S33))*100))","v":""},null,0,{"$f":"IF(AND(G33=\"st\",K33=\"st\")=TRUE,(N33+#REF!)/J33,IF(G33=\"kg\",N33+#REF!))","v":false},{"$error":"#REF!"},{"$f":"IF(#REF!=\"\",\"\",HLOOKUP(#REF!,$AP$1:$AS$2,2,FALSE))","v":{"$error":"#REF!"}}]
[null,null,null,null,null,null,null,null,null,null,null,null,null,null,null,null,{"$f":"IF(J34=\"\",\"\",IF(OR(#REF!<>\"EUR\",AND(#REF!<>\"\",H34=\"\"),H34=\"\")=TRUE,\"n.v.t.\",((((E34-S34)/U34)-T34)/(E34-S34))*100))","v":""},null,0,{"$f":"IF(AND(G34=\"st\",K34=\"st\")=TRUE,(N34+#REF!)/J34,IF(G34=\"kg\",N34+#REF!))","v":false},{"$error":"#REF!"},{"$f":"IF(#REF!=\"\",\"\",HLOOKUP(#REF!,$AP$1:$AS$2,2,FALSE))","v":{"$error":"#REF!"}}]
[null,null,null,null,null,null,null,null,null,null,null,null,null,null,null,null,{"$f":"IF(J35=\"\",\"\",IF(OR(#REF!<>\"EUR\",AND(#REF!<>\"\",H35=\"\"),H35=\"\")=TRUE,\"n.v.t.\",((((E35-S35)/U35)-T35)/(E35-S35))*100))","v":""},null,0,{"$f":"IF(AND(G35=\"st\",K35=\"st\")=TRUE,(N35+#REF!)/J35,IF(G35=\"kg\",N35+#REF!))","v":false},{"$error":"#REF!"},{"$f":"IF(#REF!=\"\",\"\",HLOOKUP(#REF!,$AP$1:$AS$2,2,FALSE))","v":{"$error":"#REF!"}}]
[null,null,null,null,null,null,null,null,null,null,null,null,null,null,null,null,{"$f":"IF(J36=\"\",\"\",IF(OR(#REF!<>\"EUR\",AND(#REF!<>\"\",H36=\"\"),H36=\"\")=TRUE,\"n.v.t.\",((((E36-S36)/U36)-T36)/(E36-S36))*100))","v":""},null,0,{"$f":"IF(AND(G36=\"st\",K36=\"st\")=TRUE,(N36+#REF!)/J36,IF(G36=\"kg\",N36+#REF!))","v":false},{"$error":"#REF!"},{"$f":"IF(#REF!=\"\",\"\",HLOOKUP(#REF!,$AP$1:$AS$2,2,FALSE))","v":{"$error":"#REF!"}}]
[null,null,null,null,null,null,null,null,null,null,null,null,null,null,null,null,{"$f":"IF(J37=\"\",\"\",IF(OR(#REF!<>\"EUR\",AND(#REF!<>\"\",H37=\"\"),H37=\"\")=TRUE,\"n.v.t.\",((((E37-S37)/U37)-T37)/(E37-S37))*100))","v":""},null,0,{"$f":"IF(AND(G37=\"st\",K37=\"st\")=TRUE,(N37+#REF!)/J37,IF(G37=\"kg\",N37+#REF!))","v":false},{"$error":"#REF!"},{"$f":"IF(#REF!=\"\",\"\",HLOOKUP(#REF!,$AP$1:$AS$2,2,FALSE))","v":{"$error":"#REF!"}}]
[null,null,null,null,null,null,null,null,null,null,null,null,null,null,null,null,{"$f":"IF(J38=\"\",\"\",IF(OR(#REF!<>\"EUR\",AND(#REF!<>\"\",H38=\"\"),H38=\"\")=TRUE,\"n.v.t.\",((((E38-S38)/U38)-T38)/(E38-S38))*100))","v":""},null,0,{"$f":"IF(AND(G38=\"st\",K38=\"st\")=TRUE,(N38+#REF!)/J38,IF(G38=\"kg\",N38+#REF!))","v":false},{"$error":"#REF!"},{"$f":"IF(#REF!=\"\",\"\",HLOOKUP(#REF!,$AP$1:$AS$2,2,FALSE))","v":{"$error":"#REF!"}}]
[null,null,null,null,null,null,null,null,null,null,null,null,null,null,null,null,{"$f":"IF(J39=\"\",\"\",IF(OR(#REF!<>\"EUR\",AND(#REF!<>\"\",H39=\"\"),H39=\"\")=TRUE,\"n.v.t.\",((((E39-S39)/U39)-T39)/(E39-S39))*100))","v":""},null,0,{"$f":"IF(AND(G39=\"st\",K39=\"st\")=TRUE,(N39+#REF!)/J39,IF(G39=\"kg\",N39+#REF!))","v":false},{"$error":"#REF!"},{"$f":"IF(#REF!=\"\",\"\",HLOOKUP(#REF!,$AP$1:$AS$2,2,FALSE))","v":{"$error":"#REF!"}}]
[null,null,null,null,null,null,null,null,null,null,null,null,null,null,null,null,{"$f":"IF(J40=\"\",\"\",IF(OR(#REF!<>\"EUR\",AND(#REF!<>\"\",H40=\"\"),H40=\"\")=TRUE,\"n.v.t.\",((((E40-S40)/U40)-T40)/(E40-S40))*100))","v":""},null,0,{"$f":"IF(AND(G40=\"st\",K40=\"st\")=TRUE,(N40+#REF!)/J40,IF(G40=\"kg\",N40+#REF!))","v":false},{"$error":"#REF!"},{"$f":"IF(#REF!=\"\",\"\",HLOOKUP(#REF!,$AP$1:$AS$2,2,FALSE))","v":{"$error":"#REF!"}}]
[null,null,null,null,null,null,null,null,null,null,null,null,null,null,null,null,{"$f":"IF(J41=\"\",\"\",IF(OR(#REF!<>\"EUR\",AND(#REF!<>\"\",H41=\"\"),H41=\"\")=TRUE,\"n.v.t.\",((((E41-S41)/U41)-T41)/(E41-S41))*100))","v":""},null,0,{"$f":"IF(AND(G41=\"st\",K41=\"st\")=TRUE,(N41+#REF!)/J41,IF(G41=\"kg\",N41+#REF!))","v":false},{"$error":"#REF!"},{"$f":"IF(#REF!=\"\",\"\",HLOOKUP(#REF!,$AP$1:$AS$2,2,FALSE))","v":{"$error":"#REF!"}}]
[null,null,null,null,null,null,null,null,null,null,null,null,null,null,null,null,{"$f":"IF(J42=\"\",\"\",IF(OR(#REF!<>\"EUR\",AND(#REF!<>\"\",H42=\"\"),H42=\"\")=TRUE,\"n.v.t.\",((((E42-S42)/U42)-T42)/(E42-S42))*100))","v":""},null,0,{"$f":"IF(AND(G42=\"st\",K42=\"st\")=TRUE,(N42+#REF!)/J42,IF(G42=\"kg\",N42+#REF!))","v":false},{"$error":"#REF!"},{"$f":"IF(#REF!=\"\",\"\",HLOOKUP(#REF!,$AP$1:$AS$2,2,FALSE))","v":{"$error":"#REF!"}}]
[null,null,null,null,null,null,null,null,null,null,null,null,null,null,null,null,{"$f":"IF(J43=\"\",\"\",IF(OR(#REF!<>\"EUR\",AND(#REF!<>\"\",H43=\"\"),H43=\"\")=TRUE,\"n.v.t.\",((((E43-S43)/U43)-T43)/(E43-S43))*100))","v":""},null,0,{"$f":"IF(AND(G43=\"st\",K43=\"st\")=TRUE,(N43+#REF!)/J43,IF(G43=\"kg\",N43+#REF!))","v":false},{"$error":"#REF!"},{"$f":"IF(#REF!=\"\",\"\",HLOOKUP(#REF!,$AP$1:$AS$2,2,FALSE))","v":{"$error":"#REF!"}}]
[null,null,null,null,null,null,null,null,null,null,null,null,null,null,null,null,{"$f":"IF(J44=\"\",\"\",IF(OR(#REF!<>\"EUR\",AND(#REF!<>\"\",H44=\"\"),H44=\"\")=TRUE,\"n.v.t.\",((((E44-S44)/U44)-T44)/(E44-S44))*100))","v":""},null,0,{"$f":"IF(AND(G44=\"st\",K44=\"st\")=TRUE,(N44+#REF!)/J44,IF(G44=\"kg\",N44+#REF!))","v":false},{"$error":"#REF!"},{"$f":"IF(#REF!=\"\",\"\",HLOOKUP(#REF!,$AP$1:$AS$2,2,FALSE))","v":{"$error":"#REF!"}}]
[null,null,null,null,null,null,null,null,null,null,null,null,null,null,null,null,{"$f":"IF(J45=\"\",\"\",IF(OR(#REF!<>\"EUR\",AND(#REF!<>\"\",H45=\"\"),H45=\"\")=TRUE,\"n.v.t.\",((((E45-S45)/U45)-T45)/(E45-S45))*100))","v":""},null,0,{"$f":"IF(AND(G45=\"st\",K45=\"st\")=TRUE,(N45+#REF!)/J45,IF(G45=\"kg\",N45+#REF!))","v":false},{"$error":"#REF!"},{"$f":"IF(#REF!=\"\",\"\",HLOOKUP(#REF!,$AP$1:$AS$2,2,FALSE))","v":{"$error":"#REF!"}}]
[null,null,null,null,null,null,null,null,null,null,null,null,null,null,null,null,{"$f":"IF(J46=\"\",\"\",IF(OR(#REF!<>\"EUR\",AND(#REF!<>\"\",H46=\"\"),H46=\"\")=TRUE,\"n.v.t.\",((((E46-S46)/U46)-T46)/(E46-S46))*100))","v":""},null,0,{"$f":"IF(AND(G46=\"st\",K46=\"st\")=TRUE,(N46+#REF!)/J46,IF(G46=\"kg\",N46+#REF!))","v":false},{"$error":"#REF!"},{"$f":"IF(#REF!=\"\",\"\",HLOOKUP(#REF!,$AP$1:$AS$2,2,FALSE))","v":{"$error":"#REF!"}}]
[null,null,null,null,null,null,null,null,null,null,null,null,null,null,null,null,{"$f":"IF(J47=\"\",\"\",IF(OR(#REF!<>\"EUR\",AND(#REF!<>\"\",H47=\"\"),H47=\"\")=TRUE,\"n.v.t.\",((((E47-S47)/U47)-T47)/(E47-S47))*100))","v":""},null,{"$f":"IF(G47=\"st\",IF(I47=\"P\",(ROUNDUP((E47*F47*H47/100),2)/F47),IF(I47=\"V\",((E47*F47)- H47)/F47,H47/F47)),IF(AND(G47=\"kg\",I47=\"P\")=TRUE,ROUNDUP((E47*H47/100),2),H47))","v":0},{"$f":"IF(AND(G47=\"st\",K47=\"st\")=TRUE,(N47+#REF!)/J47,IF(G47=\"kg\",N47+#REF!))","v":false},{"$error":"#REF!"},{"$f":"IF(#REF!=\"\",\"\",HLOOKUP(#REF!,$AP$1:$AS$2,2,FALSE))","v":{"$error":"#REF!"}}]
[null,null,null,null,null,null,null,null,null,null,null,null,null,null,null,null,{"$f":"IF(J48=\"\",\"\",IF(OR(#REF!<>\"EUR\",AND(#REF!<>\"\",H48=\"\"),H48=\"\")=TRUE,\"n.v.t.\",((((E48-S48)/U48)-T48)/(E48-S48))*100))","v":""},null,0,{"$f":"IF(AND(G48=\"st\",K48=\"st\")=TRUE,(N48+#REF!)/J48,IF(G48=\"kg\",N48+#REF!))","v":false},{"$error":"#REF!"},{"$f":"IF(#REF!=\"\",\"\",HLOOKUP(#REF!,$AP$1:$AS$2,2,FALSE))","v":{"$error":"#REF!"}}]
[null,null,null,null,null,null,null,null,null,null,null,null,null,null,null,null,{"$f":"IF(J49=\"\",\"\",IF(OR(#REF!<>\"EUR\",AND(#REF!<>\"\",H49=\"\"),H49=\"\")=TRUE,\"n.v.t.\",((((E49-S49)/U49)-T49)/(E49-S49))*100))","v":""},null,0,{"$f":"IF(AND(G49=\"st\",K49=\"st\")=TRUE,(N49+#REF!)/J49,IF(G49=\"kg\",N49+#REF!))","v":false},{"$error":"#REF!"},{"$f":"IF(#REF!=\"\",\"\",HLOOKUP(#REF!,$AP$1:$AS$2,2,FALSE))","v":{"$error":"#REF!"}}]
[null,null,null,null,null,null,null,null,null,null,null,null,null,null,null,null,{"$f":"IF(J50=\"\",\"\",IF(OR(#REF!<>\"EUR\",AND(#REF!<>\"\",H50=\"\"),H50=\"\")=TRUE,\"n.v.t.\",((((E50-S50)/U50)-T50)/(E50-S50))*100))","v":""},null,0,{"$f":"IF(AND(G50=\"st\",K50=\"st\")=TRUE,(N50+#REF!)/J50,IF(G50=\"kg\",N50+#REF!))","v":false},{"$error":"#REF!"},{"$f":"IF(#REF!=\"\",\"\",HLOOKUP(#REF!,$AP$1:$AS$2,2,FALSE))","v":{"$error":"#REF!"}}]
[null,null,null,null,null,null,null,null,null,null,null,null,null,null,null,null,{"$f":"IF(J51=\"\",\"\",IF(OR(#REF!<>\"EUR\",AND(#REF!<>\"\",H51=\"\"),H51=\"\")=TRUE,\"n.v.t.\",((((E51-S51)/U51)-T51)/(E51-S51))*100))","v":""},null,0,{"$f":"IF(AND(G51=\"st\",K51=\"st\")=TRUE,(N51+#REF!)/J51,IF(G51=\"kg\",N51+#REF!))","v":false},{"$error":"#REF!"},{"$f":"IF(#REF!=\"\",\"\",HLOOKUP(#REF!,$AP$1:$AS$2,2,FALSE))","v":{"$error":"#REF!"}}]
[null,null,null,null,null,null,null,null,null,null,null,null,null,null,null,null,{"$f":"IF(J52=\"\",\"\",IF(OR(#REF!<>\"EUR\",AND(#REF!<>\"\",H52=\"\"),H52=\"\")=TRUE,\"n.v.t.\",((((E52-S52)/U52)-T52)/(E52-S52))*100))","v":""},null,0,{"$f":"IF(AND(G52=\"st\",K52=\"st\")=TRUE,(N52+#REF!)/J52,IF(G52=\"kg\",N52+#REF!))","v":false},{"$error":"#REF!"},{"$f":"IF(#REF!=\"\",\"\",HLOOKUP(#REF!,$AP$1:$AS$2,2,FALSE))","v":{"$error":"#REF!"}}]
[null,null,null,null,null,null,null,null,null,null,null,null,null,null,null,null,{"$f":"IF(J53=\"\",\"\",IF(OR(#REF!<>\"EUR\",AND(#REF!<>\"\",H53=\"\"),H53=\"\")=TRUE,\"n.v.t.\",((((E53-S53)/U53)-T53)/(E53-S53))*100))","v":""},null,0,{"$f":"IF(AND(G53=\"st\",K53=\"st\")=TRUE,(N53+#REF!)/J53,IF(G53=\"kg\",N53+#REF!))","v":false},{"$error":"#REF!"},{"$f":"IF(#REF!=\"\",\"\",HLOOKUP(#REF!,$AP$1:$AS$2,2,FALSE))","v":{"$error":"#REF!"}}]
[null,null,null,null,null,null,null,null,null,null,null,null,null,null,null,null,{"$f":"IF(J54=\"\",\"\",IF(OR(#REF!<>\"EUR\",AND(#REF!<>\"\",H54=\"\"),H54=\"\")=TRUE,\"n.v.t.\",((((E54-S54)/U54)-T54)/(E54-S54))*100))","v":""},null,0,{"$f":"IF(AND(G54=\"st\",K54=\"st\")=TRUE,(N54+#REF!)/J54,IF(G54=\"kg\",N54+#REF!))","v":false},{"$error":"#REF!"},{"$f":"IF(#REF!=\"\",\"\",HLOOKUP(#REF!,$AP$1:$AS$2,2,FALSE))","v":{"$error":"#REF!"}}]
[null,null,null,null,null,null,null,null,null,null,null,null,null,null,null,null,{"$f":"IF(J55=\"\",\"\",IF(OR(#REF!<>\"EUR\",AND(#REF!<>\"\",H55=\"\"),H55=\"\")=TRUE,\"n.v.t.\",((((E55-S55)/U55)-T55)/(E55-S55))*100))","v":""},null,0,{"$f":"IF(AND(G55=\"st\",K55=\"st\")=TRUE,(N55+#REF!)/J55,IF(G55=\"kg\",N55+#REF!))","v":false},{"$error":"#REF!"},{"$f":"IF(#REF!=\"\",\"\",HLOOKUP(#REF!,$AP$1:$AS$2,2,FALSE))","v":{"$error":"#REF!"}}]
[null,null,null,null,null,null,null,null,null,null,null,null,null,null,null,null,{"$f":"IF(J56=\"\",\"\",IF(OR(#REF!<>\"EUR\",AND(#REF!<>\"\",H56=\"\"),H56=\"\")=TRUE,\"n.v.t.\",((((E56-S56)/U56)-T56)/(E56-S56))*100))","v":""},null,0,{"$f":"IF(AND(G56=\"st\",K56=\"st\")=TRUE,(N56+#REF!)/J56,IF(G56=\"kg\",N56+#REF!))","v":false},{"$error":"#REF!"},{"$f":"IF(#REF!=\"\",\"\",HLOOKUP(#REF!,$AP$1:$AS$2,2,FALSE))","v":{"$error":"#REF!"}}]
[null,null,null,null,null,null,null,null,null,null,null,null,null,null,null,null,{"$f":"IF(J57=\"\",\"\",IF(OR(#REF!<>\"EUR\",AND(#REF!<>\"\",H57=\"\"),H57=\"\")=TRUE,\"n.v.t.\",((((E57-S57)/U57)-T57)/(E57-S57))*100))","v":""},null,0,{"$f":"IF(AND(G57=\"st\",K57=\"st\")=TRUE,(N57+#REF!)/J57,IF(G57=\"kg\",N57+#REF!))","v":false},{"$error":"#REF!"},{"$f":"IF(#REF!=\"\",\"\",HLOOKUP(#REF!,$AP$1:$AS$2,2,FALSE))","v":{"$error":"#REF!"}}]
[null,null,null,null,null,null,null,null,null,null,null,null,null,null,null,null,{"$f":"IF(J58=\"\",\"\",IF(OR(#REF!<>\"EUR\",AND(#REF!<>\"\",H58=\"\"),H58=\"\")=TRUE,\"n.v.t.\",((((E58-S58)/U58)-T58)/(E58-S58))*100))","v":""},null,0,{"$f":"IF(AND(G58=\"st\",K58=\"st\")=TRUE,(N58+#REF!)/J58,IF(G58=\"kg\",N58+#REF!))","v":false},{"$error":"#REF!"},{"$f":"IF(#REF!=\"\",\"\",HLOOKUP(#REF!,$AP$1:$AS$2,2,FALSE))","v":{"$error":"#REF!"}}]
[null,null,null,null,null,null,null,null,null,null,null,null,null,null,null,null,{"$f":"IF(J59=\"\",\"\",IF(OR(#REF!<>\"EUR\",AND(#REF!<>\"\",H59=\"\"),H59=\"\")=TRUE,\"n.v.t.\",((((E59-S59)/U59)-T59)/(E59-S59))*100))","v":""},null,0,{"$f":"IF(AND(G59=\"st\",K59=\"st\")=TRUE,(N59+#REF!)/J59,IF(G59=\"kg\",N59+#REF!))","v":false},{"$error":"#REF!"},{"$f":"IF(#REF!=\"\",\"\",HLOOKUP(#REF!,$AP$1:$AS$2,2,FALSE))","v":{"$error":"#REF!"}}]
[null,null,null,null,null,null,null,null,null,null,null,null,null,null,null,null,{"$f":"IF(J60=\"\",\"\",IF(OR(#REF!<>\"EUR\",AND(#REF!<>\"\",H60=\"\"),H60=\"\")=TRUE,\"n.v.t.\",((((E60-S60)/U60)-T60)/(E60-S60))*100))","v":""},null,0,{"$f":"IF(AND(G60=\"st\",K60=\"st\")=TRUE,(N60+#REF!)/J60,IF(G60=\"kg\",N60+#REF!))","v":false},{"$error":"#REF!"},{"$f":"IF(#REF!=\"\",\"\",HLOOKUP(#REF!,$AP$1:$AS$2,2,FALSE))","v":{"$error":"#REF!"}}]
[null,null,null,null,null,null,null,null,null,null,null,null,null,null,null,null,{"$f":"IF(J61=\"\",\"\",IF(OR(#REF!<>\"EUR\",AND(#REF!<>\"\",H61=\"\"),H61=\"\")=TRUE,\"n.v.t.\",((((E61-S61)/U61)-T61)/(E61-S61))*100))","v":""},null,0,{"$f":"IF(AND(G61=\"st\",K61=\"st\")=TRUE,(N61+#REF!)/J61,IF(G61=\"kg\",N61+#REF!))","v":false},{"$error":"#REF!"},{"$f":"IF(#REF!=\"\",\"\",HLOOKUP(#REF!,$AP$1:$AS$2,2,FALSE))","v":{"$error":"#REF!"}}]
[null,null,null,null,null,null,null,null,null,null,null,null,null,null,null,null,{"$f":"IF(J62=\"\",\"\",IF(OR(#REF!<>\"EUR\",AND(#REF!<>\"\",H62=\"\"),H62=\"\")=TRUE,\"n.v.t.\",((((E62-S62)/U62)-T62)/(E62-S62))*100))","v":""},null,0,{"$f":"IF(AND(G62=\"st\",K62=\"st\")=TRUE,(N62+#REF!)/J62,IF(G62=\"kg\",N62+#REF!))","v":false},{"$error":"#REF!"},{"$f":"IF(#REF!=\"\",\"\",HLOOKUP(#REF!,$AP$1:$AS$2,2,FALSE))","v":{"$error":"#REF!"}}]
[null,null,null,null,null,null,null,null,null,null,null,null,null,null,null,null,{"$f":"IF(J63=\"\",\"\",IF(OR(#REF!<>\"EUR\",AND(#REF!<>\"\",H63=\"\"),H63=\"\")=TRUE,\"n.v.t.\",((((E63-S63)/U63)-T63)/(E63-S63))*100))","v":""},null,0,{"$f":"IF(AND(G63=\"st\",K63=\"st\")=TRUE,(N63+#REF!)/J63,IF(G63=\"kg\",N63+#REF!))","v":false},{"$error":"#REF!"},{"$f":"IF(#REF!=\"\",\"\",HLOOKUP(#REF!,$AP$1:$AS$2,2,FALSE))","v":{"$error":"#REF!"}}]
[null,null,null,null,null,null,null,null,null,null,null,null,null,null,null,null,{"$f":"IF(J64=\"\",\"\",IF(OR(#REF!<>\"EUR\",AND(#REF!<>\"\",H64=\"\"),H64=\"\")=TRUE,\"n.v.t.\",((((E64-S64)/U64)-T64)/(E64-S64))*100))","v":""},null,0,{"$f":"IF(AND(G64=\"st\",K64=\"st\")=TRUE,(N64+#REF!)/J64,IF(G64=\"kg\",N64+#REF!))","v":false},{"$error":"#REF!"},{"$f":"IF(#REF!=\"\",\"\",HLOOKUP(#REF!,$AP$1:$AS$2,2,FALSE))","v":{"$error":"#REF!"}}]
[null,null,null,null,null,null,null,null,null,null,null,null,null,null,null,null,{"$f":"IF(J65=\"\",\"\",IF(OR(#REF!<>\"EUR\",AND(#REF!<>\"\",H65=\"\"),H65=\"\")=TRUE,\"n.v.t.\",((((E65-S65)/U65)-T65)/(E65-S65))*100))","v":""},null,0,{"$f":"IF(AND(G65=\"st\",K65=\"st\")=TRUE,(N65+#REF!)/J65,IF(G65=\"kg\",N65+#REF!))","v":false},{"$error":"#REF!"},{"$f":"IF(#REF!=\"\",\"\",HLOOKUP(#REF!,$AP$1:$AS$2,2,FALSE))","v":{"$error":"#REF!"}}]
[null,null,null,null,null,null,null,null,null,null,null,null,null,null,null,null,{"$f":"IF(J66=\"\",\"\",IF(OR(#REF!<>\"EUR\",AND(#REF!<>\"\",H66=\"\"),H66=\"\")=TRUE,\"n.v.t.\",((((E66-S66)/U66)-T66)/(E66-S66))*100))","v":""},null,0,{"$f":"IF(AND(G66=\"st\",K66=\"st\")=TRUE,(N66+#REF!)/J66,IF(G66=\"kg\",N66+#REF!))","v":false},{"$error":"#REF!"},{"$f":"IF(#REF!=\"\",\"\",HLOOKUP(#REF!,$AP$1:$AS$2,2,FALSE))","v":{"$error":"#REF!"}}]
[null,null,null,null,null,null,null,null,null,null,null,null,null,null,null,null,{"$f":"IF(J67=\"\",\"\",IF(OR(#REF!<>\"EUR\",AND(#REF!<>\"\",H67=\"\"),H67=\"\")=TRUE,\"n.v.t.\",((((E67-S67)/U67)-T67)/(E67-S67))*100))","v":""},null,0,{"$f":"IF(AND(G67=\"st\",K67=\"st\")=TRUE,(N67+#REF!)/J67,IF(G67=\"kg\",N67+#REF!))","v":false},{"$error":"#REF!"},{"$f":"IF(#REF!=\"\",\"\",HLOOKUP(#REF!,$AP$1:$AS$2,2,FALSE))","v":{"$error":"#REF!"}}]
[null,null,null,null,null,null,null,null,null,null,null,null,null,null,null,null,{"$f":"IF(J68=\"\",\"\",IF(OR(#REF!<>\"EUR\",AND(#REF!<>\"\",H68=\"\"),H68=\"\")=TRUE,\"n.v.t.\",((((E68-S68)/U68)-T68)/(E68-S68))*100))","v":""},null,0,{"$f":"IF(AND(G68=\"st\",K68=\"st\")=TRUE,(N68+#REF!)/J68,IF(G68=\"kg\",N68+#REF!))","v":false},{"$error":"#REF!"},{"$f":"IF(#REF!=\"\",\"\",HLOOKUP(#REF!,$AP$1:$AS$2,2,FALSE))","v":{"$error":"#REF!"}}]
[null,null,null,null,null,null,null,null,null,null,null,null,null,null,null,null,{"$f":"IF(J69=\"\",\"\",IF(OR(#REF!<>\"EUR\",AND(#REF!<>\"\",H69=\"\"),H69=\"\")=TRUE,\"n.v.t.\",((((E69-S69)/U69)-T69)/(E69-S69))*100))","v":""},null,0,{"$f":"IF(AND(G69=\"st\",K69=\"st\")=TRUE,(N69+#REF!)/J69,IF(G69=\"kg\",N69+#REF!))","v":false},{"$error":"#REF!"},{"$f":"IF(#REF!=\"\",\"\",HLOOKUP(#REF!,$AP$1:$AS$2,2,FALSE))","v":{"$error":"#REF!"}}]
[null,null,null,null,null,null,null,null,null,null,null,null,null,null,null,null,{"$f":"IF(J70=\"\",\"\",IF(OR(#REF!<>\"EUR\",AND(#REF!<>\"\",H70=\"\"),H70=\"\")=TRUE,\"n.v.t.\",((((E70-S70)/U70)-T70)/(E70-S70))*100))","v":""},null,0,{"$f":"IF(AND(G70=\"st\",K70=\"st\")=TRUE,(N70+#REF!)/J70,IF(G70=\"kg\",N70+#REF!))","v":false},{"$error":"#REF!"},{"$f":"IF(#REF!=\"\",\"\",HLOOKUP(#REF!,$AP$1:$AS$2,2,FALSE))","v":{"$error":"#REF!"}}]
[null,null,null,null,null,null,null,null,null,null,null,null,null,null,null,null,{"$f":"IF(J71=\"\",\"\",IF(OR(#REF!<>\"EUR\",AND(#REF!<>\"\",H71=\"\"),H71=\"\")=TRUE,\"n.v.t.\",((((E71-S71)/U71)-T71)/(E71-S71))*100))","v":""},null,0,{"$f":"IF(AND(G71=\"st\",K71=\"st\")=TRUE,(N71+#REF!)/J71,IF(G71=\"kg\",N71+#REF!))","v":false},{"$error":"#REF!"},{"$f":"IF(#REF!=\"\",\"\",HLOOKUP(#REF!,$AP$1:$AS$2,2,FALSE))","v":{"$error":"#REF!"}}]
[null,null,null,null,null,null,null,null,null,null,null,null,null,null,null,null,{"$f":"IF(J72=\"\",\"\",IF(OR(#REF!<>\"EUR\",AND(#REF!<>\"\",H72=\"\"),H72=\"\")=TRUE,\"n.v.t.\",((((E72-S72)/U72)-T72)/(E72-S72))*100))","v":""},null,0,{"$f":"IF(AND(G72=\"st\",K72=\"st\")=TRUE,(N72+#REF!)/J72,IF(G72=\"kg\",N72+#REF!))","v":false},{"$error":"#REF!"},{"$f":"IF(#REF!=\"\",\"\",HLOOKUP(#REF!,$AP$1:$AS$2,2,FALSE))","v":{"$error":"#REF!"}}]
[null,null,null,null,null,null,null,null,null,null,null,null,null,null,null,null,{"$f":"IF(J73=\"\",\"\",IF(OR(#REF!<>\"EUR\",AND(#REF!<>\"\",H73=\"\"),H73=\"\")=TRUE,\"n.v.t.\",((((E73-S73)/U73)-T73)/(E73-S73))*100))","v":""},null,0,{"$f":"IF(AND(G73=\"st\",K73=\"st\")=TRUE,(N73+#REF!)/J73,IF(G73=\"kg\",N73+#REF!))","v":false},{"$error":"#REF!"},{"$f":"IF(#REF!=\"\",\"\",HLOOKUP(#REF!,$AP$1:$AS$2,2,FALSE))","v":{"$error":"#REF!"}}]
[null,null,null,null,null,null,null,null,null,null,null,null,null,null,null,null,{"$f":"IF(J74=\"\",\"\",IF(OR(#REF!<>\"EUR\",AND(#REF!<>\"\",H74=\"\"),H74=\"\")=TRUE,\"n.v.t.\",((((E74-S74)/U74)-T74)/(E74-S74))*100))","v":""},null,0,{"$f":"IF(AND(G74=\"st\",K74=\"st\")=TRUE,(N74+#REF!)/J74,IF(G74=\"kg\",N74+#REF!))","v":false},{"$error":"#REF!"},{"$f":"IF(#REF!=\"\",\"\",HLOOKUP(#REF!,$AP$1:$AS$2,2,FALSE))","v":{"$error":"#REF!"}}]
[null,null,null,null,null,null,null,null,null,null,null,null,null,null,null,null,{"$f":"IF(J75=\"\",\"\",IF(OR(#REF!<>\"EUR\",AND(#REF!<>\"\",H75=\"\"),H75=\"\")=TRUE,\"n.v.t.\",((((E75-S75)/U75)-T75)/(E75-S75))*100))","v":""},null,0,{"$f":"IF(AND(G75=\"st\",K75=\"st\")=TRUE,(N75+#REF!)/J75,IF(G75=\"kg\",N75+#REF!))","v":false},{"$error":"#REF!"},{"$f":"IF(#REF!=\"\",\"\",HLOOKUP(#REF!,$AP$1:$AS$2,2,FALSE))","v":{"$error":"#REF!"}}]
[null,null,null,null,null,null,null,null,null,null,null,null,null,null,null,null,{"$f":"IF(J76=\"\",\"\",IF(OR(#REF!<>\"EUR\",AND(#REF!<>\"\",H76=\"\"),H76=\"\")=TRUE,\"n.v.t.\",((((E76-S76)/U76)-T76)/(E76-S76))*100))","v":""},null,0,{"$f":"IF(AND(G76=\"st\",K76=\"st\")=TRUE,(N76+#REF!)/J76,IF(G76=\"kg\",N76+#REF!))","v":false},{"$error":"#REF!"},{"$f":"IF(#REF!=\"\",\"\",HLOOKUP(#REF!,$AP$1:$AS$2,2,FALSE))","v":{"$error":"#REF!"}}]
[null,null,null,null,null,null,null,null,null,null,null,null,null,null,null,null,{"$f":"IF(J77=\"\",\"\",IF(OR(#REF!<>\"EUR\",AND(#REF!<>\"\",H77=\"\"),H77=\"\")=TRUE,\"n.v.t.\",((((E77-S77)/U77)-T77)/(E77-S77))*100))","v":""},null,0,{"$f":"IF(AND(G77=\"st\",K77=\"st\")=TRUE,(N77+#REF!)/J77,IF(G77=\"kg\",N77+#REF!))","v":false},{"$error":"#REF!"},{"$f":"IF(#REF!=\"\",\"\",HLOOKUP(#REF!,$AP$1:$AS$2,2,FALSE))","v":{"$error":"#REF!"}}]
[null,null,null,null,null,null,null,null,null,null,null,null,null,null,null,null,{"$f":"IF(J78=\"\",\"\",IF(OR(#REF!<>\"EUR\",AND(#REF!<>\"\",H78=\"\"),H78=\"\")=TRUE,\"n.v.t.\",((((E78-S78)/U78)-T78)/(E78-S78))*100))","v":""},null,0,{"$f":"IF(AND(G78=\"st\",K78=\"st\")=TRUE,(N78+#REF!)/J78,IF(G78=\"kg\",N78+#REF!))","v":false},{"$error":"#REF!"},{"$f":"IF(#REF!=\"\",\"\",HLOOKUP(#REF!,$AP$1:$AS$2,2,FALSE))","v":{"$error":"#REF!"}}]
[null,null,null,null,null,null,null,null,null,null,null,null,null,null,null,null,{"$f":"IF(J79=\"\",\"\",IF(OR(#REF!<>\"EUR\",AND(#REF!<>\"\",H79=\"\"),H79=\"\")=TRUE,\"n.v.t.\",((((E79-S79)/U79)-T79)/(E79-S79))*100))","v":""},null,{"$f":"IF(G79=\"st\",IF(I79=\"P\",(ROUNDUP((E79*F79*H79/100),2)/F79),IF(I79=\"V\",((E79*F79)- H79)/F79,H79/F79)),IF(AND(G79=\"kg\",I79=\"P\")=TRUE,ROUNDUP((E79*H79/100),2),H79))","v":0},{"$f":"IF(AND(G79=\"st\",K79=\"st\")=TRUE,(N79+#REF!)/J79,IF(G79=\"kg\",N79+#REF!))","v":false},{"$error":"#REF!"},{"$f":"IF(#REF!=\"\",\"\",HLOOKUP(#REF!,$AP$1:$AS$2,2,FALSE))","v":{"$error":"#REF!"}}]
[null,null,null,null,null,null,null,null,null,null,null,null,null,null,null,null,{"$f":"IF(J80=\"\",\"\",IF(OR(#REF!<>\"EUR\",AND(#REF!<>\"\",H80=\"\"),H80=\"\")=TRUE,\"n.v.t.\",((((E80-S80)/U80)-T80)/(E80-S80))*100))","v":""},null,0,{"$f":"IF(AND(G80=\"st\",K80=\"st\")=TRUE,(N80+#REF!)/J80,IF(G80=\"kg\",N80+#REF!))","v":false},{"$error":"#REF!"},{"$f":"IF(#REF!=\"\",\"\",HLOOKUP(#REF!,$AP$1:$AS$2,2,FALSE))","v":{"$error":"#REF!"}}]
[null,null,null,null,null,null,null,null,null,null,null,null,null,null,null,null,{"$f":"IF(J81=\"\",\"\",IF(OR(#REF!<>\"EUR\",AND(#REF!<>\"\",H81=\"\"),H81=\"\")=TRUE,\"n.v.t.\",((((E81-S81)/U81)-T81)/(E81-S81))*100))","v":""},null,0,{"$f":"IF(AND(G81=\"st\",K81=\"st\")=TRUE,(N81+#REF!)/J81,IF(G81=\"kg\",N81+#REF!))","v":false},{"$error":"#REF!"},{"$f":"IF(#REF!=\"\",\"\",HLOOKUP(#REF!,$AP$1:$AS$2,2,FALSE))","v":{"$error":"#REF!"}}]
[null,null,null,null,null,null,null,null,null,null,null,null,null,null,null,null,{"$f":"IF(J82=\"\",\"\",IF(OR(#REF!<>\"EUR\",AND(#REF!<>\"\",H82=\"\"),H82=\"\")=TRUE,\"n.v.t.\",((((E82-S82)/U82)-T82)/(E82-S82))*100))","v":""},null,0,{"$f":"IF(AND(G82=\"st\",K82=\"st\")=TRUE,(N82+#REF!)/J82,IF(G82=\"kg\",N82+#REF!))","v":false},{"$error":"#REF!"},{"$f":"IF(#REF!=\"\",\"\",HLOOKUP(#REF!,$AP$1:$AS$2,2,FALSE))","v":{"$error":"#REF!"}}]
[null,null,null,null,null,null,null,null,null,null,null,null,null,null,null,null,{"$f":"IF(J83=\"\",\"\",IF(OR(#REF!<>\"EUR\",AND(#REF!<>\"\",H83=\"\"),H83=\"\")=TRUE,\"n.v.t.\",((((E83-S83)/U83)-T83)/(E83-S83))*100))","v":""},null,0,{"$f":"IF(AND(G83=\"st\",K83=\"st\")=TRUE,(N83+#REF!)/J83,IF(G83=\"kg\",N83+#REF!))","v":false},{"$error":"#REF!"},{"$f":"IF(#REF!=\"\",\"\",HLOOKUP(#REF!,$AP$1:$AS$2,2,FALSE))","v":{"$error":"#REF!"}}]
[null,null,null,null,null,null,null,null,null,null,null,null,null,null,null,null,{"$f":"IF(J84=\"\",\"\",IF(OR(#REF!<>\"EUR\",AND(#REF!<>\"\",H84=\"\"),H84=\"\")=TRUE,\"n.v.t.\",((((E84-S84)/U84)-T84)/(E84-S84))*100))","v":""},null,0,{"$f":"IF(AND(G84=\"st\",K84=\"st\")=TRUE,(N84+#REF!)/J84,IF(G84=\"kg\",N84+#REF!))","v":false},{"$error":"#REF!"},{"$f":"IF(#REF!=\"\",\"\",HLOOKUP(#REF!,$AP$1:$AS$2,2,FALSE))","v":{"$error":"#REF!"}}]
[null,null,null,null,null,null,null,null,null,null,null,null,null,null,null,null,{"$f":"IF(J85=\"\",\"\",IF(OR(#REF!<>\"EUR\",AND(#REF!<>\"\",H85=\"\"),H85=\"\")=TRUE,\"n.v.t.\",((((E85-S85)/U85)-T85)/(E85-S85))*100))","v":""},null,0,{"$f":"IF(AND(G85=\"st\",K85=\"st\")=TRUE,(N85+#REF!)/J85,IF(G85=\"kg\",N85+#REF!))","v":false},{"$f":"1+(V85/100)","v":{"$error":"#REF!"}},{"$f":"IF(#REF!=\"\",\"\",HLOOKUP(#REF!,$AP$1:$AS$2,2,FALSE))","v":{"$error":"#REF!"}}]
[null,null,null,null,null,null,null,null,null,null,null,null,null,null,null,null,{"$f":"IF(J86=\"\",\"\",IF(OR(#REF!<>\"EUR\",AND(#REF!<>\"\",H86=\"\"),H86=\"\")=TRUE,\"n.v.t.\",((((E86-S86)/U86)-T86)/(E86-S86))*100))","v":""},null,0,{"$f":"IF(AND(G86=\"st\",K86=\"st\")=TRUE,(N86+#REF!)/J86,IF(G86=\"kg\",N86+#REF!))","v":false},{"$error":"#REF!"},{"$f":"IF(#REF!=\"\",\"\",HLOOKUP(#REF!,$AP$1:$AS$2,2,FALSE))","v":{"$error":"#REF!"}}]
[null,null,null,null,null,null,null,null,null,null,null,null,null,null,null,null,{"$f":"IF(J87=\"\",\"\",IF(OR(#REF!<>\"EUR\",AND(#REF!<>\"\",H87=\"\"),H87=\"\")=TRUE,\"n.v.t.\",((((E87-S87)/U87)-T87)/(E87-S87))*100))","v":""},null,0,{"$f":"IF(AND(G87=\"st\",K87=\"st\")=TRUE,(N87+#REF!)/J87,IF(G87=\"kg\",N87+#REF!))","v":false},{"$error":"#REF!"},{"$f":"IF(#REF!=\"\",\"\",HLOOKUP(#REF!,$AP$1:$AS$2,2,FALSE))","v":{"$error":"#REF!"}}]
[null,null,null,null,null,null,null,null,null,null,null,null,null,null,null,null,{"$f":"IF(J88=\"\",\"\",IF(OR(#REF!<>\"EUR\",AND(#REF!<>\"\",H88=\"\"),H88=\"\")=TRUE,\"n.v.t.\",((((E88-S88)/U88)-T88)/(E88-S88))*100))","v":""},null,0,{"$f":"IF(AND(G88=\"st\",K88=\"st\")=TRUE,(N88+#REF!)/J88,IF(G88=\"kg\",N88+#REF!))","v":false},{"$error":"#REF!"},{"$f":"IF(#REF!=\"\",\"\",HLOOKUP(#REF!,$AP$1:$AS$2,2,FALSE))","v":{"$error":"#REF!"}}]
[null,null,null,null,null,null,null,null,null,null,null,null,null,null,null,null,{"$f":"IF(J89=\"\",\"\",IF(OR(#REF!<>\"EUR\",AND(#REF!<>\"\",H89=\"\"),H89=\"\")=TRUE,\"n.v.t.\",((((E89-S89)/U89)-T89)/(E89-S89))*100))","v":""},null,0,{"$f":"IF(AND(G89=\"st\",K89=\"st\")=TRUE,(N89+#REF!)/J89,IF(G89=\"kg\",N89+#REF!))","v":false},{"$error":"#REF!"},{"$f":"IF(#REF!=\"\",\"\",HLOOKUP(#REF!,$AP$1:$AS$2,2,FALSE))","v":{"$error":"#REF!"}}]
[null,null,null,null,null,null,null,null,null,null,null,null,null,null,null,null,{"$f":"IF(J90=\"\",\"\",IF(OR(#REF!<>\"EUR\",AND(#REF!<>\"\",H90=\"\"),H90=\"\")=TRUE,\"n.v.t.\",((((E90-S90)/U90)-T90)/(E90-S90))*100))","v":""},null,0,{"$f":"IF(AND(G90=\"st\",K90=\"st\")=TRUE,(N90+#REF!)/J90,IF(G90=\"kg\",N90+#REF!))","v":false},{"$error":"#REF!"},{"$f":"IF(#REF!=\"\",\"\",HLOOKUP(#REF!,$AP$1:$AS$2,2,FALSE))","v":{"$error":"#REF!"}}]
[null,null,null,null,null,null,null,null,null,null,null,null,null,null,null,null,{"$f":"IF(J91=\"\",\"\",IF(OR(#REF!<>\"EUR\",AND(#REF!<>\"\",H91=\"\"),H91=\"\")=TRUE,\"n.v.t.\",((((E91-S91)/U91)-T91)/(E91-S91))*100))","v":""},null,0,{"$f":"IF(AND(G91=\"st\",K91=\"st\")=TRUE,(N91+#REF!)/J91,IF(G91=\"kg\",N91+#REF!))","v":false},{"$error":"#REF!"},{"$f":"IF(#REF!=\"\",\"\",HLOOKUP(#REF!,$AP$1:$AS$2,2,FALSE))","v":{"$error":"#REF!"}}]
[null,null,null,null,null,null,null,null,null,null,null,null,null,null,null,null,{"$f":"IF(J92=\"\",\"\",IF(OR(#REF!<>\"EUR\",AND(#REF!<>\"\",H92=\"\"),H92=\"\")=TRUE,\"n.v.t.\",((((E92-S92)/U92)-T92)/(E92-S92))*100))","v":""},null,0,{"$f":"IF(AND(G92=\"st\",K92=\"st\")=TRUE,(N92+#REF!)/J92,IF(G92=\"kg\",N92+#REF!))","v":false},{"$error":"#REF!"},{"$f":"IF(#REF!=\"\",\"\",HLOOKUP(#REF!,$AP$1:$AS$2,2,FALSE))","v":{"$error":"#REF!"}}]
[null,null,null,null,null,null,null,null,null,null,null,null,null,null,null,null,{"$f":"IF(J93=\"\",\"\",IF(OR(#REF!<>\"EUR\",AND(#REF!<>\"\",H93=\"\"),H93=\"\")=TRUE,\"n.v.t.\",((((E93-S93)/U93)-T93)/(E93-S93))*100))","v":""},null,0,{"$f":"IF(AND(G93=\"st\",K93=\"st\")=TRUE,(N93+#REF!)/J93,IF(G93=\"kg\",N93+#REF!))","v":false},{"$error":"#REF!"},{"$f":"IF(#REF!=\"\",\"\",HLOOKUP(#REF!,$AP$1:$AS$2,2,FALSE))","v":{"$error":"#REF!"}}]
[null,null,null,null,null,null,null,null,null,null,null,null,null,null,null,null,{"$f":"IF(J94=\"\",\"\",IF(OR(#REF!<>\"EUR\",AND(#REF!<>\"\",H94=\"\"),H94=\"\")=TRUE,\"n.v.t.\",((((E94-S94)/U94)-T94)/(E94-S94))*100))","v":""},null,0,{"$f":"IF(AND(G94=\"st\",K94=\"st\")=TRUE,(N94+#REF!)/J94,IF(G94=\"kg\",N94+#REF!))","v":false},{"$error":"#REF!"},{"$f":"IF(#REF!=\"\",\"\",HLOOKUP(#REF!,$AP$1:$AS$2,2,FALSE))","v":{"$error":"#REF!"}}]
[null,null,null,null,null,null,null,null,null,null,null,null,null,null,null,null,{"$f":"IF(J95=\"\",\"\",IF(OR(#REF!<>\"EUR\",AND(#REF!<>\"\",H95=\"\"),H95=\"\")=TRUE,\"n.v.t.\",((((E95-S95)/U95)-T95)/(E95-S95))*100))","v":""},null,0,{"$f":"IF(AND(G95=\"st\",K95=\"st\")=TRUE,(N95+#REF!)/J95,IF(G95=\"kg\",N95+#REF!))","v":false},{"$error":"#REF!"},{"$f":"IF(#REF!=\"\",\"\",HLOOKUP(#REF!,$AP$1:$AS$2,2,FALSE))","v":{"$error":"#REF!"}}]
[null,null,null,null,null,null,null,null,null,null,null,null,null,null,null,null,{"$f":"IF(J96=\"\",\"\",IF(OR(#REF!<>\"EUR\",AND(#REF!<>\"\",H96=\"\"),H96=\"\")=TRUE,\"n.v.t.\",((((E96-S96)/U96)-T96)/(E96-S96))*100))","v":""},null,0,{"$f":"IF(AND(G96=\"st\",K96=\"st\")=TRUE,(N96+#REF!)/J96,IF(G96=\"kg\",N96+#REF!))","v":false},{"$error":"#REF!"},{"$f":"IF(#REF!=\"\",\"\",HLOOKUP(#REF!,$AP$1:$AS$2,2,FALSE))","v":{"$error":"#REF!"}}]
[null,null,null,null,null,null,null,null,null,null,null,null,null,null,null,null,{"$f":"IF(J97=\"\",\"\",IF(OR(#REF!<>\"EUR\",AND(#REF!<>\"\",H97=\"\"),H97=\"\")=TRUE,\"n.v.t.\",((((E97-S97)/U97)-T97)/(E97-S97))*100))","v":""},null,0,{"$f":"IF(AND(G97=\"st\",K97=\"st\")=TRUE,(N97+#REF!)/J97,IF(G97=\"kg\",N97+#REF!))","v":false},{"$error":"#REF!"},{"$f":"IF(#REF!=\"\",\"\",HLOOKUP(#REF!,$AP$1:$AS$2,2,FALSE))","v":{"$error":"#REF!"}}]
[null,null,null,null,null,null,null,null,null,null,null,null,null,null,null,null,{"$f":"IF(J98=\"\",\"\",IF(OR(#REF!<>\"EUR\",AND(#REF!<>\"\",H98=\"\"),H98=\"\")=TRUE,\"n.v.t.\",((((E98-S98)/U98)-T98)/(E98-S98))*100))","v":""},null,0,{"$f":"IF(AND(G98=\"st\",K98=\"st\")=TRUE,(N98+#REF!)/J98,IF(G98=\"kg\",N98+#REF!))","v":false},{"$error":"#REF!"},{"$f":"IF(#REF!=\"\",\"\",HLOOKUP(#REF!,$AP$1:$AS$2,2,FALSE))","v":{"$error":"#REF!"}}]
[null,null,null,null,null,null,null,null,null,null,null,null,null,null,null,null,{"$f":"IF(J99=\"\",\"\",IF(OR(#REF!<>\"EUR\",AND(#REF!<>\"\",H99=\"\"),H99=\"\")=TRUE,\"n.v.t.\",((((E99-S99)/U99)-T99)/(E99-S99))*100))","v":""},null,0,{"$f":"IF(AND(G99=\"st\",K99=\"st\")=TRUE,(N99+#REF!)/J99,IF(G99=\"kg\",N99+#REF!))","v":false},{"$error":"#REF!"},{"$f":"IF(#REF!=\"\",\"\",HLOOKUP(#REF!,$AP$1:$AS$2,2,FALSE))","v":{"$error":"#REF!"}}]
[null,null,null,null,null,null,null,null,null,null,null,null,null,null,null,null,{"$f":"IF(J100=\"\",\"\",IF(OR(#REF!<>\"EUR\",AND(#REF!<>\"\",H100=\"\"),H100=\"\")=TRUE,\"n.v.t.\",((((E100-S100)/U100)-T100)/(E100-S100))*100))","v":""},null,0,{"$f":"IF(AND(G100=\"st\",K100=\"st\")=TRUE,(N100+#REF!)/J100,IF(G100=\"kg\",N100+#REF!))","v":false},{"$error":"#REF!"},{"$f":"IF(#REF!=\"\",\"\",HLOOKUP(#REF!,$AP$1:$AS$2,2,FALSE))","v":{"$error":"#REF!"}}]
[null,null,null,null,null,null,null,null,null,null,null,null,null,null,null,null,{"$f":"IF(J101=\"\",\"\",IF(OR(#REF!<>\"EUR\",AND(#REF!<>\"\",H101=\"\"),H101=\"\")=TRUE,\"n.v.t.\",((((E101-S101)/U101)-T101)/(E101-S101))*100))","v":""},null,0,{"$f":"IF(AND(G101=\"st\",K101=\"st\")=TRUE,(N101+#REF!)/J101,IF(G101=\"kg\",N101+#REF!))","v":false},{"$error":"#REF!"},{"$f":"IF(#REF!=\"\",\"\",HLOOKUP(#REF!,$AP$1:$AS$2,2,FALSE))","v":{"$error":"#REF!"}}]
[null,null,null,null,null,null,null,null,null,null,null,null,null,null,null,null,{"$f":"IF(J102=\"\",\"\",IF(OR(#REF!<>\"EUR\",AND(#REF!<>\"\",H102=\"\"),H102=\"\")=TRUE,\"n.v.t.\",((((E102-S102)/U102)-T102)/(E102-S102))*100))","v":""},null,0,{"$f":"IF(AND(G102=\"st\",K102=\"st\")=TRUE,(N102+#REF!)/J102,IF(G102=\"kg\",N102+#REF!))","v":false},{"$error":"#REF!"},{"$f":"IF(#REF!=\"\",\"\",HLOOKUP(#REF!,$AP$1:$AS$2,2,FALSE))","v":{"$error":"#REF!"}}]
[null,null,null,null,null,null,null,null,null,null,null,null,null,null,null,null,{"$f":"IF(J103=\"\",\"\",IF(OR(#REF!<>\"EUR\",AND(#REF!<>\"\",H103=\"\"),H103=\"\")=TRUE,\"n.v.t.\",((((E103-S103)/U103)-T103)/(E103-S103))*100))","v":""},null,0,{"$f":"IF(AND(G103=\"st\",K103=\"st\")=TRUE,(N103+#REF!)/J103,IF(G103=\"kg\",N103+#REF!))","v":false},{"$error":"#REF!"},{"$f":"IF(#REF!=\"\",\"\",HLOOKUP(#REF!,$AP$1:$AS$2,2,FALSE))","v":{"$error":"#REF!"}}]
[null,null,null,null,null,null,null,null,null,null,null,null,null,null,null,null,{"$f":"IF(J104=\"\",\"\",IF(OR(#REF!<>\"EUR\",AND(#REF!<>\"\",H104=\"\"),H104=\"\")=TRUE,\"n.v.t.\",((((E104-S104)/U104)-T104)/(E104-S104))*100))","v":""},null,0,{"$f":"IF(AND(G104=\"st\",K104=\"st\")=TRUE,(N104+#REF!)/J104,IF(G104=\"kg\",N104+#REF!))","v":false},{"$error":"#REF!"},{"$f":"IF(#REF!=\"\",\"\",HLOOKUP(#REF!,$AP$1:$AS$2,2,FALSE))","v":{"$error":"#REF!"}}]
[null,null,null,null,null,null,null,null,null,null,null,null,null,null,null,null,{"$f":"IF(J105=\"\",\"\",IF(OR(#REF!<>\"EUR\",AND(#REF!<>\"\",H105=\"\"),H105=\"\")=TRUE,\"n.v.t.\",((((E105-S105)/U105)-T105)/(E105-S105))*100))","v":""},null,0,{"$f":"IF(AND(G105=\"st\",K105=\"st\")=TRUE,(N105+#REF!)/J105,IF(G105=\"kg\",N105+#REF!))","v":false},{"$error":"#REF!"},{"$f":"IF(#REF!=\"\",\"\",HLOOKUP(#REF!,$AP$1:$AS$2,2,FALSE))","v":{"$error":"#REF!"}}]